BEGIN:VCALENDAR
VERSION:2.0
PRODID:-//SS Solutions LTD - ECPv6.15.20//NONSGML v1.0//EN
CALSCALE:GREGORIAN
METHOD:PUBLISH
X-WR-CALNAME:SS Solutions LTD
X-ORIGINAL-URL:https://sssolutionsltd.co.uk
X-WR-CALDESC:Events for SS Solutions LTD
REFRESH-INTERVAL;VALUE=DURATION:PT1H
X-Robots-Tag:noindex
X-PUBLISHED-TTL:PT1H
BEGIN:VTIMEZONE
TZID:Europe/London
BEGIN:DAYLIGHT
TZOFFSETFROM:+0000
TZOFFSETTO:+0100
TZNAME:BST
DTSTART:20250330T010000
END:DAYLIGHT
BEGIN:STANDARD
TZOFFSETFROM:+0100
TZOFFSETTO:+0000
TZNAME:GMT
DTSTART:20251026T010000
END:STANDARD
BEGIN:DAYLIGHT
TZOFFSETFROM:+0000
TZOFFSETTO:+0100
TZNAME:BST
DTSTART:20260329T010000
END:DAYLIGHT
BEGIN:STANDARD
TZOFFSETFROM:+0100
TZOFFSETTO:+0000
TZNAME:GMT
DTSTART:20261025T010000
END:STANDARD
BEGIN:DAYLIGHT
TZOFFSETFROM:+0000
TZOFFSETTO:+0100
TZNAME:BST
DTSTART:20270328T010000
END:DAYLIGHT
BEGIN:STANDARD
TZOFFSETFROM:+0100
TZOFFSETTO:+0000
TZNAME:GMT
DTSTART:20271031T010000
END:STANDARD
END:VTIMEZONE
BEGIN:VEVENT
DTSTART;TZID=Europe/London:20260507T080000
DTEND;TZID=Europe/London:20260507T170000
DTSTAMP:20260419T163719
CREATED:20260325T120041Z
LAST-MODIFIED:20260325T120807Z
UID:1131-1778140800-1778173200@sssolutionsltd.co.uk
SUMMARY:Temporary Traffic Management Basic Course & Gate Person Airlock Installer and Operator **COMBINED**
DESCRIPTION:SERVICE DESCRIPTION TTMBC This gives candidates an introduction to the industry and allows them to work in the highway sector. This is the start of their traffic management career. The course is ran by an credited Lantra trainer. \n\n\n\nYou will be given the basic information for the TTMBC. At the end of the course you will need to complete a test to make sure you have understood the information given. After you have passed the test you will achieve your TTMBC Lantra qualification which allows you to work in the Traffic Management Industry as a trainee. \n\n\n\nThe qualification will last for six months therefore it is vital that you progress to the T1/T2 course before the six month expiry.   \nGATE PERSON AIRLOCK INSTALLER- \nThe course is ran by an accredited Lantra trainer. Learners must have completed the Temporary Traffic Management Basic Course (TTMBC) This course will cover: \n• Safety and risks \n•Requirements and signing layouts  \n•Sequence for installation of an airlock \n•Operating an airlock \n •Multiple entry points with one crew \n•Dealing with incidents and incursions of works sequence – removing an airlock \nThese two courses have now been combined due to Gate person and airlock installer now being a mandatory course since September 2025. \n****NON REFUNDABLE****
URL:https://sssolutionsltd.co.uk/course/temporary-traffic-management-basic-course-gate-person-airlock-installer-and-operator/
LOCATION:The Chevron Group | 3B Holloway Drive\, Wardley\, Worsley\, M28 2LA\, The Chevron Group\, 3B Holloway Drive\, Wardley\, Worsley\, M28 2LA
END:VEVENT
BEGIN:VEVENT
DTSTART;TZID=Europe/London:20260507T150000
DTEND;TZID=Europe/London:20260507T170000
DTSTAMP:20260419T163719
CREATED:20260410T093234Z
LAST-MODIFIED:20260410T093234Z
UID:1267-1778166000-1778173200@sssolutionsltd.co.uk
SUMMARY:Gateperson\, Airlock Installer & Operator
DESCRIPTION:Service Description\nThe course is ran by an accredited Lantra trainer. Learners must have completed the Temporary Traffic Management Basic Course (TTMBC) This course will cover: \n• Safety and risks \n•Requirements and signing layouts  \n•Sequence for installation of an airlock \n•Operating an airlock \n •Multiple entry points with one crew \n•Dealing with incidents and incursions of works sequence – removing an airlock \n****NON REFUNDABLE****
URL:https://sssolutionsltd.co.uk/course/gateperson-airlock-installer-operator/
LOCATION:The Chevron Group | 3B Holloway Drive\, Wardley\, Worsley\, M28 2LA\, The Chevron Group\, 3B Holloway Drive\, Wardley\, Worsley\, M28 2LA
END:VEVENT
BEGIN:VEVENT
DTSTART;TZID=Europe/London:20260508T080000
DTEND;TZID=Europe/London:20260508T163000
DTSTAMP:20260419T163719
CREATED:20260325T120412Z
LAST-MODIFIED:20260325T120412Z
UID:1138-1778227200-1778257800@sssolutionsltd.co.uk
SUMMARY:T1/T2- Installation and maintenance
DESCRIPTION:Service Description\nThe course is ran by an accredited Lantra trainer. This course is a full day course that comes in two parts after each part there will be a small exam. In the first part gives you more information and goes more into depth with situations (stop & go\, roundabouts etc)\, basic layouts and responsibility such as equipment & vehicles\, health & safety\, Risk assessments and Diversions . The second part works towards you M2. After completing this course you then have the option to complete the M1/M2 course. \n\n***NON REFUNDABLE***
URL:https://sssolutionsltd.co.uk/course/t1-t2-installation-and-maintenance-3/
LOCATION:The Chevron Group | 3B Holloway Drive\, Wardley\, Worsley\, M28 2LA\, The Chevron Group\, 3B Holloway Drive\, Wardley\, Worsley\, M28 2LA
END:VEVENT
END:VCALENDAR